BEGIN:VCALENDAR
VERSION:2.0
PRODID:-//Shepherd&#039;s Academy - ECPv6.15.17.1//NONSGML v1.0//EN
CALSCALE:GREGORIAN
METHOD:PUBLISH
X-ORIGINAL-URL:https://myshepherdsacademy.org
X-WR-CALDESC:Events for Shepherd&#039;s Academy
REFRESH-INTERVAL;VALUE=DURATION:PT1H
X-Robots-Tag:noindex
X-PUBLISHED-TTL:PT1H
BEGIN:VTIMEZONE
TZID:UTC
BEGIN:STANDARD
TZOFFSETFROM:+0000
TZOFFSETTO:+0000
TZNAME:UTC
DTSTART:20240101T000000
END:STANDARD
END:VTIMEZONE
BEGIN:VEVENT
DTSTART;VALUE=DATE:20250917
DTEND;VALUE=DATE:20251128
DTSTAMP:20260420T221209
CREATED:20250826T105648Z
LAST-MODIFIED:20260316T232018Z
UID:3191-1758067200-1764287999@myshepherdsacademy.org
SUMMARY:Character Formation
DESCRIPTION:Class Overview				\n				\n									If filmmaking is your passion but you never went to film school you’ve come to the right place. Here\, you will get hands-on experience and acquire skills that you never would’ve elsewhere like learning how to make feature films on your own\, making do with any equipment\, and doing it all faster and better.								\n				\n					Description				\n				\n									You will be taught the full process of filmmaking starting from planning\, filming\, and editing. Not only that but you will learn how to make films that look way more expensive than they are without spending a whole lot of time or money on them. In this course\, we’ll focus on a few different forms of films from video ads\, to movie trailers to travel vlogs\, you name it.								\n				\n									With this course\, you also have access to a whole lot of resources not only for reference but also free media like aerial video shots\, background music\, fonts\, and more. These all come with proper licensing so you can use them in your production worry free.								\n				\n		\n				\n				\n					       \n			\n					Real-World Skills			\n    				\n				\n				\n									If is your passion but you never went to film school you’ve come the right place. 								\n		\n				\n					Age 				\n				\n					3-6 				\n				\n		\n				\n					Class Size: 				\n				\n					30 Students 				\n				\n		\n				\n					Time: 				\n				\n					9:00-12:00 				\n				\n		\n				\n					Pricing: 				\n				\n					Full Day $60.00 				\n				\n				\n					\n				\n		\n					\n				\n							\n			\n						\n		\n						\n					\n				\n		\n					\n				\n					Class Schedule				\n				\n									Class routine chart is a great way to help students and teachers stay organized and aware.								\n				\n				\n						\n		\n			\n				\n					TimeSundayMondayTuesdayWednesdayThursday				\n			\n			\n				\n					  08:00 Music & Movement 08:00am - 09:00am Language Development 08:00am - 09:00am Creative arts & crafts 08:00am - 09:00am Music & Movement 08:00am - 09:00am Outdoor Play 08:00am - 09:00am   09:00 Language Development 09:00am - 10:00am Outdoor Play 09:00am - 10:00am Music & Movement 09:00am - 10:00am Creative arts & crafts 09:00am - 10:00am Language Development 09:00am - 10:00am   10:00 Creative arts & crafts 10:00am - 11:00am Music & Movement 10:00am - 11:00am Language Development 10:00am - 11:00am Outdoor Play 10:00am - 11:00am Creative arts & crafts 10:00am - 11:00am   11:00 Outdoor Play 11:00am - 12:00am Creative arts & crafts 11:00am - 12:00am Outdoor Play 11:00am - 12:00am Language Development 11:00am - 12:00am Music & Movement 11:00am - 12:00am
URL:https://myshepherdsacademy.org/event/character-formation/
ATTACH;FMTTYPE=image/webp:https://myshepherdsacademy.org/wp-content/uploads/2025/08/class2.webp
END:VEVENT
BEGIN:VEVENT
DTSTART;VALUE=DATE:20250906
DTEND;VALUE=DATE:20251220
DTSTAMP:20260420T221210
CREATED:20250826T105957Z
LAST-MODIFIED:20260316T232105Z
UID:3193-1757116800-1766188799@myshepherdsacademy.org
SUMMARY:Real-World Skills
DESCRIPTION:Class Overview				\n				\n									If filmmaking is your passion but you never went to film school you’ve come to the right place. Here\, you will get hands-on experience and acquire skills that you never would’ve elsewhere like learning how to make feature films on your own\, making do with any equipment\, and doing it all faster and better.								\n				\n					Description				\n				\n									You will be taught the full process of filmmaking starting from planning\, filming\, and editing. Not only that but you will learn how to make films that look way more expensive than they are without spending a whole lot of time or money on them. In this course\, we’ll focus on a few different forms of films from video ads\, to movie trailers to travel vlogs\, you name it.								\n				\n									With this course\, you also have access to a whole lot of resources not only for reference but also free media like aerial video shots\, background music\, fonts\, and more. These all come with proper licensing so you can use them in your production worry free.								\n				\n		\n				\n				\n					       \n			\n					Real-World Skills			\n    				\n				\n				\n									If is your passion but you never went to film school you’ve come the right place. 								\n		\n				\n					Age 				\n				\n					3-6 				\n				\n		\n				\n					Class Size: 				\n				\n					30 Students 				\n				\n		\n				\n					Time: 				\n				\n					9:00-12:00 				\n				\n		\n				\n					Pricing: 				\n				\n					Full Day $60.00 				\n				\n				\n					\n				\n		\n					\n				\n							\n			\n						\n		\n						\n					\n				\n		\n					\n				\n					Class Schedule				\n				\n									Class routine chart is a great way to help students and teachers stay organized and aware.								\n				\n				\n						\n		\n			\n				\n					TimeSundayMondayTuesdayWednesdayThursday				\n			\n			\n				\n					  08:00 Music & Movement 08:00am - 09:00am Language Development 08:00am - 09:00am Creative arts & crafts 08:00am - 09:00am Music & Movement 08:00am - 09:00am Outdoor Play 08:00am - 09:00am   09:00 Language Development 09:00am - 10:00am Outdoor Play 09:00am - 10:00am Music & Movement 09:00am - 10:00am Creative arts & crafts 09:00am - 10:00am Language Development 09:00am - 10:00am   10:00 Creative arts & crafts 10:00am - 11:00am Music & Movement 10:00am - 11:00am Language Development 10:00am - 11:00am Outdoor Play 10:00am - 11:00am Creative arts & crafts 10:00am - 11:00am   11:00 Outdoor Play 11:00am - 12:00am Creative arts & crafts 11:00am - 12:00am Outdoor Play 11:00am - 12:00am Language Development 11:00am - 12:00am Music & Movement 11:00am - 12:00am
URL:https://myshepherdsacademy.org/event/life-skills/
ATTACH;FMTTYPE=image/webp:https://myshepherdsacademy.org/wp-content/uploads/2025/08/class1.webp
END:VEVENT
BEGIN:VEVENT
DTSTART;TZID=UTC:20250826T080000
DTEND;TZID=UTC:20250826T170000
DTSTAMP:20260420T221210
CREATED:20250826T105627Z
LAST-MODIFIED:20260316T231912Z
UID:3190-1756195200-1756227600@myshepherdsacademy.org
SUMMARY:Curious Discovery
DESCRIPTION:Class Overview				\n				\n									If filmmaking is your passion but you never went to film school you’ve come to the right place. Here\, you will get hands-on experience and acquire skills that you never would’ve elsewhere like learning how to make feature films on your own\, making do with any equipment\, and doing it all faster and better.								\n				\n					Description				\n				\n									You will be taught the full process of filmmaking starting from planning\, filming\, and editing. Not only that but you will learn how to make films that look way more expensive than they are without spending a whole lot of time or money on them. In this course\, we’ll focus on a few different forms of films from video ads\, to movie trailers to travel vlogs\, you name it.								\n				\n									With this course\, you also have access to a whole lot of resources not only for reference but also free media like aerial video shots\, background music\, fonts\, and more. These all come with proper licensing so you can use them in your production worry free.								\n				\n		\n				\n				\n					       \n			\n					Real-World Skills			\n    				\n				\n				\n									If is your passion but you never went to film school you’ve come the right place. 								\n		\n				\n					Age 				\n				\n					3-6 				\n				\n		\n				\n					Class Size: 				\n				\n					30 Students 				\n				\n		\n				\n					Time: 				\n				\n					9:00-12:00 				\n				\n		\n				\n					Pricing: 				\n				\n					Full Day $60.00 				\n				\n				\n					\n				\n		\n					\n				\n							\n			\n						\n		\n						\n					\n				\n		\n					\n				\n					Class Schedule				\n				\n									Class routine chart is a great way to help students and teachers stay organized and aware.								\n				\n				\n						\n		\n			\n				\n					TimeSundayMondayTuesdayWednesdayThursday				\n			\n			\n				\n					  08:00 Music & Movement 08:00am - 09:00am Language Development 08:00am - 09:00am Creative arts & crafts 08:00am - 09:00am Music & Movement 08:00am - 09:00am Outdoor Play 08:00am - 09:00am   09:00 Language Development 09:00am - 10:00am Outdoor Play 09:00am - 10:00am Music & Movement 09:00am - 10:00am Creative arts & crafts 09:00am - 10:00am Language Development 09:00am - 10:00am   10:00 Creative arts & crafts 10:00am - 11:00am Music & Movement 10:00am - 11:00am Language Development 10:00am - 11:00am Outdoor Play 10:00am - 11:00am Creative arts & crafts 10:00am - 11:00am   11:00 Outdoor Play 11:00am - 12:00am Creative arts & crafts 11:00am - 12:00am Outdoor Play 11:00am - 12:00am Language Development 11:00am - 12:00am Music & Movement 11:00am - 12:00am
URL:https://myshepherdsacademy.org/event/curious-discovery/
ATTACH;FMTTYPE=image/webp:https://myshepherdsacademy.org/wp-content/uploads/2025/08/class3.webp
END:VEVENT
BEGIN:VEVENT
DTSTART;TZID=UTC:20250826T080000
DTEND;TZID=UTC:20250826T170000
DTSTAMP:20260420T221210
CREATED:20250826T105302Z
LAST-MODIFIED:20260316T231758Z
UID:3189-1756195200-1756227600@myshepherdsacademy.org
SUMMARY:Academic Foundations
DESCRIPTION:Class Overview				\n				\n									If filmmaking is your passion but you never went to film school you’ve come to the right place. Here\, you will get hands-on experience and acquire skills that you never would’ve elsewhere like learning how to make feature films on your own\, making do with any equipment\, and doing it all faster and better.								\n				\n					Description				\n				\n									You will be taught the full process of filmmaking starting from planning\, filming\, and editing. Not only that but you will learn how to make films that look way more expensive than they are without spending a whole lot of time or money on them. In this course\, we’ll focus on a few different forms of films from video ads\, to movie trailers to travel vlogs\, you name it.								\n				\n									With this course\, you also have access to a whole lot of resources not only for reference but also free media like aerial video shots\, background music\, fonts\, and more. These all come with proper licensing so you can use them in your production worry free.								\n				\n		\n				\n				\n					       \n			\n					Real-World Skills			\n    				\n				\n				\n									If is your passion but you never went to film school you’ve come the right place. 								\n		\n				\n					Age 				\n				\n					3-6 				\n				\n		\n				\n					Class Size: 				\n				\n					30 Students 				\n				\n		\n				\n					Time: 				\n				\n					9:00-12:00 				\n				\n		\n				\n					Pricing: 				\n				\n					Full Day $60.00 				\n				\n				\n					\n				\n		\n					\n				\n							\n			\n						\n		\n						\n					\n				\n		\n					\n				\n					Class Schedule				\n				\n									Class routine chart is a great way to help students and teachers stay organized and aware.								\n				\n				\n						\n		\n			\n				\n					TimeSundayMondayTuesdayWednesdayThursday				\n			\n			\n				\n					  08:00 Music & Movement 08:00am - 09:00am Language Development 08:00am - 09:00am Creative arts & crafts 08:00am - 09:00am Music & Movement 08:00am - 09:00am Outdoor Play 08:00am - 09:00am   09:00 Language Development 09:00am - 10:00am Outdoor Play 09:00am - 10:00am Music & Movement 09:00am - 10:00am Creative arts & crafts 09:00am - 10:00am Language Development 09:00am - 10:00am   10:00 Creative arts & crafts 10:00am - 11:00am Music & Movement 10:00am - 11:00am Language Development 10:00am - 11:00am Outdoor Play 10:00am - 11:00am Creative arts & crafts 10:00am - 11:00am   11:00 Outdoor Play 11:00am - 12:00am Creative arts & crafts 11:00am - 12:00am Outdoor Play 11:00am - 12:00am Language Development 11:00am - 12:00am Music & Movement 11:00am - 12:00am
URL:https://myshepherdsacademy.org/event/academic-foundations/
ATTACH;FMTTYPE=image/webp:https://myshepherdsacademy.org/wp-content/uploads/2025/08/class4.webp
END:VEVENT
END:VCALENDAR